BEGIN:VCALENDAR
VERSION:2.0
CALSCALE:GREGORIAN
METHOD:PUBLISH
BEGIN:VEVENT
SUMMARY:Infrastructure performante ou prison dorée\, parlons résilience
DTSTART:20260423T163000Z
DTSTAMP:20260421T211327Z
CATEGORIES:
DESCRIPTION:Infrastructure performante ou prison dorée\, parlons résilie
 nce \nImaginez demain matin\, suite à une décision politique\, un servi
 ce cloud essentiel devient limité. Vos données ne peuvent plus sortir d'
 une certaine zone géographique\, et l'application qui fait tourner une pa
 rtie critique de votre activité est tout simplement indisponible.\nCe sc
 énario peut paraître extrême et pourtant\, il est de moins en moins fic
 tif.\nLes causes importent peu. Ce qui compte\, c'est de répondre honnêt
 ement à quelques questions simples : avez-vous une procédure de bascule 
 documentée et testée en conditions réelles ? Votre gestion des identit
 és fonctionne-t-elle de manière autonome ? Pouvez-vous migrer vos donné
 es critiques en moins de 48 heures ? Si la réponse est non\, votre infras
 tructure est performante — mais vous en êtes captif.\nLe 23 avril à pa
 rtir de 18h30\, Doxallia\, Clever Cloud\, Digital New Deal et Le Village b
 y CA Paris vous invitent à une table ronde pour en débattre\, dans les l
 ocaux du Village by CA\, 55 rue de la Boétie\, Paris.\nEntrée libre\, su
 r inscription. Places limitées.\nIntervenants\n\nConstantin Jais\, Manage
 r Innovation IA et Data\, Doxallia\nFlorent Perreux\, Directeur commercial
 \, Clever Cloud\nEmmanuel Papadacci-Stephanopoli\, Directeur Général Dé
 légué\, Le Village by CA Paris\nArno Pons\, Délégué Général\, Digit
 al New Deal\n\nAnimateur\n\nThomas Couteau\, Wattsy Solutions\n
GEO:48.8731069;2.3129583
LOCATION:55 Rue La Boétie 75008 Paris - FR
ORGANIZER:Clever Cloud
END:VEVENT
END:VCALENDAR
