BEGIN:VCALENDAR
VERSION:2.0
CALSCALE:GREGORIAN
METHOD:PUBLISH
BEGIN:VEVENT
SUMMARY:Pourquoi j’ai invité mon agresseur à mon mariage
DTSTART:20260527T190000Z
DTSTAMP:20260425T152714Z
CATEGORIES:
DESCRIPTION:Mercredi Carte Blanche au Local des Autrices\nPourquoi j’ai 
 invité mon agresseur à mon mariage \nConférence gesticulée\n Mercred
 i 27 mai à 21h\n \nDurée 1H\nÀ partir de 16 ans\nDe et avec Bettina Zo
 urli \nAvec le soutien de Les artisanes de l’étincelle (Lille)\n \nCa
 sser l’ambiance de la culture du viol !\nPourquoi les victimes de violen
 ces sexuelles mettent-elles autant de temps à parler ? Voilà une questio
 n qui revient régulièrement. Dans une société qui banalise les violenc
 es\, qui les érotise et qui diffuse une vision fantasmée des agressions 
 sexuelles\, prendre la parole en tant que victime sur le sujet relève du 
 parcours de la combattante. Pendant 1H15\, revenons ensemble sur tous les 
 freins que rencontrent les victimes\, mais aussi les 
GEO:48.8697086;2.3757622
LOCATION:18 Rue de l'Orillon 75011 Paris - FR
ORGANIZER:Le Local des Autrices
END:VEVENT
END:VCALENDAR
