BEGIN:VCALENDAR
VERSION:2.0
CALSCALE:GREGORIAN
METHOD:PUBLISH
BEGIN:VEVENT
SUMMARY:Soirée Table ronde: La Vente conseil
DTSTART:20260429T163000Z
DTEND:20260429T200000Z
DTSTAMP:20260422T141243Z
CATEGORIES:
DESCRIPTION:\nC'est au sein du prestigieux Hôtel*** Le Royal à Nice\, v
 éritable joyau de la Promenade des Anglais\, que les DCF Côte d'Azur et 
 leur partenaire Cyrus Herez\, ont le plaisir de vous convier à leur proch
 aine table ronde dédiée à un enjeu clé: la Vente Conseil. \n\nDans un
  contexte où la relation client évolue profondément\, comment passer d'
 une logique de vente à une posture de conseil à forte valeur ajoutée?\n
 \nCette rencontre\,  co-organisée avec le groupe Cyrus Herez et animée 
 par notre Maitre de cérémonie Siegfried Haack\, réunira des professionn
 els inspirants qui partageront  leur retour d'expériences\, leurs bonnes
  pratiques et leur vision du métier. \n\nUn moment privilégié pour:\n\
 n\nprendre de la hauteur sur vos pratiques commerciales\n\néchanger entre
  pairs\n\nnourrir votre réflexion statégique\n\n\nLa soirée se poursuiv
 ra autour d'un cocktail dînatoire convivial\, propice au networking. \n\
 n	Programme:\n\n	18H30: Accueil\n\n	19h00 Table ronde animée par Siegfrie
 d Haack\n\n	20h00: Cocktail Networking\n\n	 \n
LOCATION:23 Promenade des Anglais 06000 Nice - FR
ORGANIZER:DCF Côte d'Azur
END:VEVENT
END:VCALENDAR
