BEGIN:VCALENDAR
VERSION:2.0
CALSCALE:GREGORIAN
METHOD:PUBLISH
BEGIN:VEVENT
SUMMARY:3 nuances de Grieg
DTSTART:20260607T140000Z
DTEND:20260607T160000Z
DTSTAMP:20260420T120928Z
CATEGORIES:
DESCRIPTION:\nConcert MUSICAMI - 3 nuances de Grieg\n\n	Entrée par le jar
 din.\n\n	Entrée libre - Participation (10€ conseillé)\n
LOCATION:57 boulevard Jourdan 75014 Paris - FR
ORGANIZER:MUSICAMI
END:VEVENT
END:VCALENDAR
