BEGIN:VCALENDAR
VERSION:2.0
CALSCALE:GREGORIAN
METHOD:PUBLISH
BEGIN:VEVENT
SUMMARY:Table-ronde : vos idées sur le Transhumanisme
DTSTART:20260428T170000Z
DTSTAMP:20260420T040031Z
CATEGORIES:
DESCRIPTION:Association Française Transhumaniste – Technoprog :  renco
 ntre au pub Saint Michel\, au 19 quai Saint Michel 75005 Paris.\n\n\nLa pr
 ochaine séance se déroulera le MARDI 28 avril 2026\, à partir de 19h00.
  Venez débattre de vos idées sur le Transhumanisme !\n\nVenez discuter d
 es enjeux éthiques\, philosophiques\, économiques\, politiques et social
 es qu'impliquent les nouvelles technologies avec les membres franciliens d
 e l'AFT-Technoprog\nPour rappel\, contrairement aux précédentes séances
 \, celle-ci aura lieu dans la salle au 1er étage du pub Saint Michel\, da
 ns le 5ème arrondissement et commencera à 19h00.\n*   *   *\n\n \n\
 nDepuis près de 20 ans\, notre association interpelle la société sur le
 s questionnements relatifs aux mutations actuelles de la condition biologi
 que et sociale de l’humain. Son objectif est d’améliorer cette condit
 ion\, notamment en allongeant radicalement la durée de vie en bonne sant
 é. Elle cherche à promouvoir les technologies qui permettent ces transfo
 rmations tout en prônant une préservation des équilibres environnementa
 ux\, une attention aux risques sanitaires\, le tout dans un soucis de just
 ice sociale.\n\n\n
GEO:48.857942;2.346353
LOCATION:19 quai Saint Michel 75005 Paris - FR
ORGANIZER:Association Française Transhumaniste - Technoprog
END:VEVENT
END:VCALENDAR
