BEGIN:VCALENDAR
VERSION:2.0
CALSCALE:GREGORIAN
METHOD:PUBLISH
BEGIN:VEVENT
SUMMARY:Bébés Lecteurs - Mercredi 27 mai 2026 à 10h
DTSTART:20260527T080000Z
DTEND:20260527T083000Z
DTSTAMP:20260421T013556Z
CATEGORIES:
DESCRIPTION:\n	La lecture\, c’est bon pour les bébés !\n\n	 \n\n	La m
 édiathèque Désiré-Klein propose aux tout-petits des séances de courte
 s lectures d’albums pour bébés\, accompagnées de chansons\, comptines
  et jeux de doigts\, pour les enfants jusqu’à 3 ans.\n\n	Venez partager
  ce moment d’éveil avec votre enfant le mercredi 27 mai\, de 10h à 10h
 30\, à la médiathèque Désiré Klein.\n\n	 \n\n	Public : Enfants de 0 
 à 3 ans\n\n	 \n\n	Inscription obligatoire – Places limitées !\n\n	 \
 n\nRenseignements : \n\n	 \n\n	Espace Dagron : 02 37 91 90 90\n\n	 \n\n
 	Pour toute annulation\, merci de prévenir l'Espace Dagron.\n\n	Il n'est 
 pas nécessaire d'imprimer votre billet\, un contrôle nominatif sera effe
 ctué lors de votre venue.\n
LOCATION:2/4 place du marché 28700 Auneau-Bleury -Saint-Symphorien - FR
ORGANIZER:Espace Dagron
END:VEVENT
END:VCALENDAR
