BEGIN:VCALENDAR
VERSION:2.0
CALSCALE:GREGORIAN
METHOD:PUBLISH
BEGIN:VEVENT
SUMMARY:Bangalore Kernel Meetup - April 2026
DTSTART:20260411T033000Z
DTSTAMP:20260423T224202Z
CATEGORIES:
DESCRIPTION:The Linux Kernel Meet up Bangalore is aimed at catching up wit
 h kernel enthusiasts from in and around Bangalore with a deep interest in 
 Linux kernel Development. This is primarily aimed at developers\, users an
 d students interested in various kernel topics and contributions.\nIf inte
 rested in kernel craftsmanship\, clean code\, best code practices\, progra
 mming\, feel free to come and share knowledge.
GEO:12.9216374;77.6685834
LOCATION:B bldg 2nd floor\, Prestige Technostar\, Doddanakundi Industrial 
 Area 2 Phase 1\, Brookefield. 560048 Bengaluru - IN
ORGANIZER:Team Bangalore Kernel Meetup
END:VEVENT
END:VCALENDAR
