BEGIN:VCALENDAR
VERSION:2.0
CALSCALE:GREGORIAN
METHOD:PUBLISH
BEGIN:VEVENT
SUMMARY:Conférence "La protection de l'enfance entre protéger et autonom
 iser" 
DTSTART:20260415T163000Z
DTSTAMP:20260422T070656Z
CATEGORIES:
DESCRIPTION:\n	Chères cliniciennes\, chers cliniciens\, \n\n	 \n\n	Le p
 ôle Droit des personnes et de la famille ont le plaisir de vous convier 
 à leur nouvelle conférence portant sur la protection de l’enfance. \n
 \n	 \n\n	Cette conférence vise à se questionner sur les politiques publ
 iques visant à la protection des familles et de l’enfance. La mise en p
 lace de telles politiques publiques fait appel à l’évaluation de nombr
 eux mécanismes et nécessite une étude casuistique portée sur les besoi
 ns et la situation de chaque enfant. \n\n	 \n\n	Selon la DREES\, près d
 e 400 000 mineurs et jeunes majeurs ont bénéficié des mesures de l’ai
 de sociale à l’enfance (ASE) au cours de l’année 2025. En France\, l
 es dépenses de l’ASE visant à la protection des enfants n’ont cessé
  d’augmenter\, de même que le nombre de jeunes placés.\n\n	 \n\n	Cett
 e rencontre nous pousse à porter une réflexion sur l’effectivité des 
 systèmes de protection mis en place en France\, tout en réfléchissant s
 ur les enjeux juridiques liées à ces situation. \n\n	 \n\n	Les interve
 nants permettront d’apporter une analyse approfondie sur cette question 
 ! \n\n	 \n\n	Solène CAHEN — Doctorante en droit\, autrice de la thès
 e “L’organisation de la protection du mineur et du jeune majeur” à 
 l’Université Paris 1 Pantéhon-Sorbonne.\n\n	 \n\n	Antoine TROCELLO 
 — Juge des enfants.\n\n	 \n\n	Maria Ana MONIZ — Responsable du pôle 
 jeunes majeurs dans l’association IM’PACTES.\n\n	 \n\n	DATE - Mercred
 i 15 avril 2026- 18h30.\n\n	LIEU - Salle 02 — Centre Panthéon\, 12 Rue 
 du Panthéon.\n\n	 \n\nPlaces limitées : inscription obligatoire \n\n	
  \n\n[Vu le nombre limité de places\, veuillez nous prévenir dans le ca
 s où vous ne pourriez venir]\n\n	 \n\n	Nous espérons vous y retrouver n
 ombreuses et nombreux ! \n\n	 \n\n	L’équipe CJS\n
LOCATION:12 rue du Panthéon 75005 Paris - FR
ORGANIZER:Clinique Juridique de La Sorbonne
END:VEVENT
END:VCALENDAR
