BEGIN:VCALENDAR
VERSION:2.0
CALSCALE:GREGORIAN
METHOD:PUBLISH
BEGIN:VEVENT
SUMMARY:De sénateur à conseiller municipal avec Joshua Hochart
DTSTART:20260410T180000Z
DTSTAMP:20260423T123200Z
CATEGORIES:
DESCRIPTION:À la suite de ces élections municipales victorieuse\, le RNJ
  92 vous propose de retracer ce moment victorieux en compagnie de Joshua H
 ochart\, sénateur du Nord et conseiller municipal de Denain.\nCette renco
 ntre sera l'occasion de décrypter notre réussite et revenir sur les dyna
 miques ayant permis ce succès. Nous aurons l'occasion de débattre\, disc
 uter et partager ensemble cette étape décisive avant les élections pré
 sidentielles.\nOn vous attend nombreux !\n \nDate : le vendredi 10 avril 
 à 20h\nLieu : 114 bis Rue Michel Ange Auteuil\, Paris 75016
GEO:48.8388246;2.2573487
LOCATION:114 Rue Michel Ange 75016 Paris - FR
ORGANIZER:RNJ92
END:VEVENT
END:VCALENDAR
