BEGIN:VCALENDAR
VERSION:2.0
CALSCALE:GREGORIAN
METHOD:PUBLISH
BEGIN:VEVENT
SUMMARY:Fête du jeu - Murder Party - Samedi 30 mai 2026 - De 15h à 17h
DTSTART:20260530T130000Z
DTEND:20260530T150000Z
DTSTAMP:20260421T031832Z
CATEGORIES:
DESCRIPTION:\n	Dans le cadre de la Fête du jeu\, rejoignez la Compagnie "
 L'entre-sorts" lors d'une Murder party !\n\nDurant la soirée de présenta
 tion du nouveau roman policier du Professeur Délirium on trouve Robert 
 l’homme de ménage assassiné et le livre a disparu. Livre dans lequel s
 e trouve d’importantes informations classées top secrètes sous forme d
 ’une puce. Qui avait intérêt à récupérer cette puce ? Qui voulait l
 a mort du pauvre Robert ? À qui profite le crime ? Avec votre aide et vo
 tre sens aiguisé de l’observation vous allez tenter de résoudre en fam
 ille notre enquête spectacle. \n\n	Une enquête à vivre en famille ou e
 ntre amis à partir de 6 ans.\n\n	 \n\nRenseignements :\n\n	Espace Dagro
 n\n\n	02 37 91 90 90\n\n	Pour toute annulation\, merci de prévenir l’Es
 pace Dagron.\n\n	Il n'est pas nécessaire d'imprimer votre billet\, un con
 trôle nominatif sera effectué lors de votre venue.\n\n	 \n
LOCATION:29 rue Jean Jaurès 28700 Auneau-Bleury-Saint-Symphorien - FR
ORGANIZER:Espace Dagron
END:VEVENT
END:VCALENDAR
