BEGIN:VCALENDAR
VERSION:2.0
CALSCALE:GREGORIAN
METHOD:PUBLISH
BEGIN:VEVENT
SUMMARY:Bienvenue aux JAM Sessions de Jazz à Niort !
DTSTART:20260426T130000Z
DTEND:20260426T180000Z
DTSTAMP:20260425T143229Z
CATEGORIES:
DESCRIPTION:\n\nBienvenue aux Jam Sessions Jazz de Jazz à Niort !\n\nCes 
 jams sont ouvertes à tous les musiciens motivés\, dans un esprit de part
 age\, d’écoute et de convivialité.\n\nPour nous aider à mieux vous co
 nnaître et à préparer la soirée\, merci de compléter le formulaire d
 ’inscription. Il nous permet de composer des sets équilibrés et de vou
 s accueillir dans les meilleures conditions. La participation de chacun d
 épendra du nombre de musiciens présents et des instruments représentés
 . La confirmation définitive se fera sur place\, afin de garantir un bel 
 équilibre musical dans chaque set.\n\n⏰ Arrivez une heure avant le déb
 ut de la jam : cela nous permet de former les groupes et d’ajuster les b
 esoins techniques. Chaque participant jouera deux morceaux au sein d’un 
 set organisé par l’équipe artistique.\n\n❓ Une question ? Nous resto
 ns à votre disposition pour toute précision.\n\nℹ️ Note : Weezevent 
 utilise parfois les mots « acheteur » ou « commande ». Ici\, ils signi
 fient simplement « participant » et « inscription ». Rien à payer —
  juste l’envie de jouer et de faire swinguer la jam.\n\n\n	 \n
LOCATION:3 rue de la Chamoiserie 79000 NIORT - FR
ORGANIZER:Jazz à Niort
END:VEVENT
END:VCALENDAR
