BEGIN:VCALENDAR
VERSION:2.0
CALSCALE:GREGORIAN
METHOD:PUBLISH
BEGIN:VEVENT
SUMMARY:Randos des Terroirs à Grand Paris Sud 2026
DTSTART:20260628T070000Z
DTEND:20260628T100000Z
DTSTAMP:20260424T154305Z
CATEGORIES:
DESCRIPTION:\nLa Rando des Terroirs 2026\n\n	Dans le cadre des Randos des 
 Terroirs de Seine & Marne\, l'Office de Tourisme Grand Paris Sud vous prop
 ose une boucle de 12\,5 kilomètres\, pour partir à l'exploration de notr
 e terroir et producteurs locaux. Des rencontres humaines et gustatives en 
 perspective !\n\n	En partenariat avec le Comité Départemental de la Rand
 onnée Pédestre 77\, venez profiter d’une randonnée gourmande au cœur
  du terroir local\, au départ de Réau et en direction de Moissy-Cramayel
 .\n\n	 \n\n\n- Domaine des Macarons de Réau : atelier de démonstration 
 de fabrication des macarons sur deux créneaux : 9h15 et 9h45\n\n- Ferme d
 ’Eprunes : atelier frites sur deux créneaux : 10h et 10h30\n\n- Véhicu
 le-bureau d’information touristique de l’Office de Tourisme Grand Pari
 s Sud\, avec la présence des producteurs : Les Confitures de Véro (confi
 tures) et Apina (miel)\n\n		 \n\n\nQuand ? Dimanche 28 juin 2026\, dépar
 ts libre de 9h à 9h45\n\nDurée ? Environ 3h de randonnée (arrets degust
 ation non-inclus dans cette durée)\n\nTarif ? 10€ \n\nRecommandations 
 : chaussures et vêtements adaptés à la randonnée et aux conditions mé
 téo prévues.\n\n	 \n\nAccès : Parking situé au départ de la randonn
 ée à Réau\n\n	 \n\nRÉSERVATION OBLIGAOIRE\n
LOCATION:Rue Frédéric Sarazin 77550 Réau Réau - FR
ORGANIZER:Office de Tourisme Grand Paris Sud
END:VEVENT
END:VCALENDAR
