BEGIN:VCALENDAR
VERSION:2.0
CALSCALE:GREGORIAN
METHOD:PUBLISH
BEGIN:VEVENT
SUMMARY:L'apéro des Frenchy\, à l'Hippodrome de la Côte d'Azur
DTSTART:20260605T160000Z
DTEND:20260605T213000Z
DTSTAMP:20260421T161553Z
CATEGORIES:
DESCRIPTION:\n\n\n\n				 \n\n\n\n\n	Coucou les Frenchy\,\n\n	Nous sommes 
 de retour cet été à l'Hippodrome de la Côte d'Azur pour une édition e
 n plein air ! \n\n	Rendez-vous le vendredi 5 juin dès 18h dans les jardi
 ns de l'hippodrome pour un apéro géant en extérieur ! \n\n	Comme toujo
 urs le concept est simple : de quoi manger sur le pouce\, du bon vin\, des
  copains\, des copines et bien sûr le meilleur de la musique française !
  \n\n	De Dalida à Gims\, de Claude François à K-maro\, en passant par 
 Céline Dion et Alizée\, notre DJ vous distillera le meilleur de la chans
 on française des années 70 à aujourd'hui ! \n\n	Préparez-vous à chan
 ter à tue-tête et à danser dans une ambiance conviviale et bienveillant
 e ! \n\n	Dress code : Jeux Olympiques ! \n	___\n Animations : Pétanque
 \, Photobox\, Taureau Mécanique et surprises...\n\n Restauration : 8 pre
 stataires locaux pour vous régaler !\n\n Suivez-nous sur instagram : @ap
 erodesfrenchy\nwww.instagram.com/aperodesfrenchy\n\n Enfants / mineurs no
 n autorisés\n\n Animaux de compagnie non autorisés \n\nParking gratuit
 \n\n Evénement filmé et photographié\n\n Hippodrome de la Côte d'Azu
 r\n	2 Boulevard Kennedy\n	06800 Cagnes-sur-mer\n
LOCATION:2 Boulevard Kennedy 06800 Cagnes-sur-Mer - FR
ORGANIZER:CMEA Consulting SAS
END:VEVENT
END:VCALENDAR
