BEGIN:VCALENDAR
VERSION:2.0
CALSCALE:GREGORIAN
METHOD:PUBLISH
BEGIN:VEVENT
SUMMARY:Concert JACAM - CHAM
DTSTART:20260521T180000Z
DTSTAMP:20260425T152726Z
CATEGORIES:
DESCRIPTION:\nLes élèves suivant un enseignement musique ainsi que la ch
 orale du Lycée Jacques Amyot\, associés aux élèves de la Classe à Hor
 aires aménagés du collège Denfert Rochereau\, sont heureux de présente
 r sur scène le fruit de leur travail.\n \nInterprétations\, créations 
 ou arrangements sont au menu de la soirée\, dans un large éventail de st
 yles musicaux\, de la musique savante à la Pop actuelle.\n \nIls vous at
 tendent nombreux pour les soutenir\, certains se produisant en concert pou
 r la première fois !\n\n 
LOCATION:Ouverture des portes à 19h30   - FR
ORGANIZER:Service Compris
END:VEVENT
END:VCALENDAR
