BEGIN:VCALENDAR
VERSION:2.0
CALSCALE:GREGORIAN
METHOD:PUBLISH
BEGIN:VEVENT
SUMMARY:BATIR AU FÉMININ
DTSTART:20260424T080000Z
DTEND:20260424T140000Z
DTSTAMP:20260423T142528Z
CATEGORIES:
DESCRIPTION:Bâtir au Féminin \nEt si vous osiez faire le premier pas ve
 rs les métiers du négoce ?\nDoras vous invite à un événement unique d
 édié à la valorisation des femmes dans les métiers du négoce et de la
  logistique.\nPourquoi cet événement ?\nLes métiers de chauffeur-grutie
 r\, cariste ou encore du bâtiment sont encore trop peu féminisés… pou
 rtant\, ils offrent de vraies opportunités de carrière\, d’évolution 
 et d’épanouissement.\nNotre objectif : casser les idées reçues\, insp
 irer et donner envie aux femmes d’oser se lancer.\nAu programme\nTables 
 rondes & témoignagesÉchangez avec des professionnels et des invités pas
 sionnés qui partageront leurs parcours\, leurs réussites et leurs consei
 ls.\nAteliers immersifsDécouvrez concrètement les métiers grâce à des
  démonstrations\, simulateurs et mises en situation.\nRencontres avec nos
  partenairesOrganismes professionnels\, de formation et de l'emploi : vene
 z poser toutes vos questions !\nMoment convivial Un food truck (payant) se
 ra présent le midi pour partager un moment chaleureux et échanger en tou
 te simplicité.\nPour qui ?\n\n\nFemmes en recherche d’orientation ou de
  reconversion\n\n\nÉtudiantes ou demandeuses d’emploi\n\n\nCurieuses so
 uhaitant découvrir un nouveau secteur\n\n\nProfessionnelles voulant élar
 gir leurs horizons\n\n\nVenez échanger\, découvrir et vous inspirer\nC
 ’est l’occasion idéale de rencontrer des personnes du terrain\, de te
 ster\, comprendre et peut-être… trouver votre voie.\n -> Doras Chenôv
 e 6 Rue Antoine Becquerel
GEO:47.2859677;5.023129099999999
LOCATION:6 Rue Antoine Becquerel 21300 Chenôve - FR
ORGANIZER:BATIR AU FÉMININ
END:VEVENT
END:VCALENDAR
