BEGIN:VCALENDAR
VERSION:2.0
CALSCALE:GREGORIAN
METHOD:PUBLISH
BEGIN:VEVENT
SUMMARY:L'apéro des Frenchy\, au Parc Borély MARSEILLE 
DTSTART:20260508T160000Z
DTEND:20260508T210000Z
DTSTAMP:20260421T161635Z
CATEGORIES:
DESCRIPTION:\n	Coucou les Frenchy\,\n\n	Nous arrivons à MARSEILLEEEE ! \
 n\n	Rendez-vous le vendredi 8 mai au Parc Borély dès 18h pour un apéro 
 géant en partenariat avec la course La Marseillaise des Femmes !\n\n	Comm
 e toujours le concept est simple : de quoi manger sur le pouce\, du bon vi
 n\, des copains\, des copines et bien sûr le meilleur de la musique fran
 çaise ! \n\n	De Dalida à Gims\, de Claude François à K-maro\, en pass
 ant par Céline Dion et Alizée\, notre DJ vous distillera le meilleur de 
 la chanson française des années 70 à aujourd'hui ! \n\n	Préparez-vous
  à chanter à tue-tête et à danser dans une ambiance conviviale et bien
 veillante ! \n\n	Dress code : Sportif ! \n\n Une partie des profits fin
 ancera la Fondation pour la Recherche Médicale pour la lutte contre le ca
 ncer du sein et Amnesty International pour les droits des femmes.\n	___\n
  Animations : Pétanque\, Photobox et surprises...\n\n Restauration : 5 
 prestataires locaux pour vous régaler !\n\n Suivez-nous sur instagram : 
 @aperodesfrenchy\nwww.instagram.com/aperodesfrenchy\n\n Enfants / mineurs
  non autorisés\n\n Animaux de compagnie non autorisés \n\n Evénement
  filmé et photographié\n\n Parc Borély\n	Avenue du Parc Borély\n	1300
 8 Marseille\n
LOCATION:Avenue du Parc Borély  13008 Marseille - FR
ORGANIZER:CMEA Consulting SAS
END:VEVENT
END:VCALENDAR
