BEGIN:VCALENDAR
VERSION:2.0
CALSCALE:GREGORIAN
METHOD:PUBLISH
BEGIN:VEVENT
SUMMARY:Soirée Annuelle de la Chaire Ecocirculab
DTSTART:20260511T153000Z
DTSTAMP:20260422T065810Z
CATEGORIES:
DESCRIPTION:
LOCATION:Rue Vendémiaire - Campus Richter 34000 Montpellier - FR
END:VEVENT
END:VCALENDAR
