BEGIN:VCALENDAR
VERSION:2.0
CALSCALE:GREGORIAN
METHOD:PUBLISH
BEGIN:VEVENT
SUMMARY:Bookclub - The Whisperer
DTSTART:20260430T171500Z
DTSTAMP:20260421T111317Z
CATEGORIES:
DESCRIPTION:
GEO:45.191847;5.7297128
LOCATION:3 Rue Lafayette 38000 Grenoble - FR
ORGANIZER:SAS Momie Grenoble
END:VEVENT
END:VCALENDAR
