BEGIN:VCALENDAR
VERSION:2.0
CALSCALE:GREGORIAN
METHOD:PUBLISH
BEGIN:VEVENT
SUMMARY:Visite #7 Ombrière du parking du Zénith
DTSTART:20260606T070000Z
DTSTAMP:20260422T141243Z
CATEGORIES:
DESCRIPTION:
GEO:47.3552759;5.0581775
LOCATION:Rue de Colchide 21000 Dijon - FR
ORGANIZER:VILLE DE DIJON
END:VEVENT
END:VCALENDAR
