BEGIN:VCALENDAR
VERSION:2.0
CALSCALE:GREGORIAN
METHOD:PUBLISH
BEGIN:VEVENT
SUMMARY:06/05 • Afterwork Apéro & Peinture - Aix-en-Provence
DTSTART:20260506T170000Z
DTEND:20260506T190000Z
DTSTAMP:20260423T163130Z
CATEGORIES:
DESCRIPTION:Vous cherchez une manière originale et amusante de passer vot
 re début de soirée après le travail ?\nRejoignez-nous pour un Afterwork
  festif mêlant Apéro et Peinture ! \nDu bon vin (ou un soft)\, une bon
 ne ambiance et de la peinture \; c'est le combo parfait pour à la fois se
  détendre et passer un bon moment sans prise de tête\, tout en puisant l
 ’inspiration dans les effluves d’un apéritif offert par la maison.\n
  Durant cet atelier\, vous peindrez l’oeuvre de votre choix parmi cell
 es proposées ! L’idée\, c’est que vous apportiez VOTRE touche et que
  vous libériez votre sens artistique.\nVous serez bien entendu accompagn
 é par Pauline et Lola pour réaliser votre oeuvre sans difficultés !Pas 
 d'inquiétude\, cette expérience est réservée aux débutants :)\n Alo
 rs ? Prêt(e) à découvrir l'artiste qui sommeille en vous et à vous sur
 prendre ?\n \nL'organisateur se réserve le droit d'annuler l'événement
  jusqu'à 24h avant la date si le nombre minimum de personne n'est pas att
 eint. Vous pourrez alors utiliser votre billet sur une autre date au choix
  sans supplément.
GEO:43.53186830000001;5.4505694
LOCATION:46 Rue du Puits Neuf 13100 Aix-en-Provence - FR
ORGANIZER:Les Expériences WAY
END:VEVENT
END:VCALENDAR
