BEGIN:VCALENDAR
VERSION:2.0
CALSCALE:GREGORIAN
METHOD:PUBLISH
BEGIN:VEVENT
SUMMARY:Concert / Les hommes contre / Pietro Lussu et Felice Montervino po
 ur Insulae Lab
DTSTART:20260427T163000Z
DTSTAMP:20260419T184658Z
CATEGORIES:
DESCRIPTION:\n	L’Institut culturel italien est heureux d’accueillir le
  premier concert parisien d’Insulae Lab\, Centre de production de jazz e
 t de créativité artistique des îles méditerranéennes\, fondé en 2022
  sur une idée de Paolo Fresu\, Président de l’Association et Directeur
  Artistique d’Insulae Lab.\n\n	« La Sardaigne\, presque un continent. 
 » Tel est le postulat de l’association culturelle Time in Jazz\, qui s
 ’est lancée dans cette aventure ambitieuse : produire du jazz en Sardai
 gne\, avec un rayonnement européen. Ces productions artistiques majeures 
 ont été conçues dès le départ pour créer de nouvelles opportunités 
 et renouveler l’offre culturelle nationale\, en valorisant la pluralité
  linguistique (une caractéristique de la Sardaigne\, et donc de l’assoc
 iation Time in Jazz). Ces productions réunissent des univers différents\
 , pas seulement du point de vue musical \, dans un mélange où l’art es
 t au cœur de tout. Des productions qui intègrent\, connectent et célèb
 rent la pluralité de la vie contemporaine.\n\nLes hommes contre. Pendant 
 la guerre\, nous chantions aussi parfois \n\nPietro Lussu : piano\n\nFeli
 ce Montervino : narrateur\n\n	Le pianiste romain Pietro Lussu est le petit
 -fils de l'écrivain et homme politique sarde Emilio Lussu\, célèbre pou
 r son œuvre Les hommes contre (Un anno sull'altipiano). Jusqu'à présent
 \, personne n'avait songé à proposer à Pietro de travailler sur l'œuvr
 e d'Emilio : l'opportunité d'une production avec Insulae Lab s'est prése
 ntée spontanément et s'est avérée indispensable. L'immortalité de l'
 œuvre littéraire de son grand-père paternel se mêle à la beauté et 
 à la sensibilité de la recherche musicale du pianiste. Dans cette aventu
 re artistique\, il est accompagné par un comédien exceptionnel de Caglia
 ri\, Felice Montervino\, qui relève le défi de réinterpréter une parti
 e de l'œuvre littéraire de Lussu dans une lecture musicale saisissante.\
 n\nLes hommes contre. Pendant la guerre\, nous chantions aussi parfois : l
 es mots et la musique prennent vie\, deviennent corps\, lutte\, création 
 humaine. Les souvenirs personnels d'une année passée au front pendant la
  Grande Guerre : non pas un récit\, mais les images saisissantes capturé
 es dans le regard d'un homme qui incarnait la complexité de cette époque
 . Un voyage au cœur de la poétique d'Emilio Lussu\, à la croisée de la
  littérature et de l'engagement civique et politique. Un reportage poigna
 nt sur les absurdités et les horreurs de la guerre et sur la nécessité 
 de soutenir\, par ses actes\, son cœur et son esprit\, la paix à chaque 
 occasion.\n\n	Soirée en langue italienne.\n\n	En collaboration avec Insul
 ae Lab\n\n	 \n
LOCATION:50\, rue de Varenne 75007 Paris - FR
ORGANIZER:Institut culturel italien de Paris
END:VEVENT
END:VCALENDAR
