BEGIN:VCALENDAR
VERSION:2.0
CALSCALE:GREGORIAN
METHOD:PUBLISH
BEGIN:VEVENT
SUMMARY:Mosaik & Mimosas
DTSTART:20260425T140000Z
DTSTAMP:20260423T114658Z
CATEGORIES:
DESCRIPTION:Lets create some spring vibes!Lust auf Sonne im Glas und Kreat
 ivität in den Händen?\nDann ist unser Event Mosaik & Mimosas genau das 
 Richtige für dich! \nIn entspannter Atmosphäre gestalten wir gemeinsam 
 stilvolle Fliesenvasen oder Untersetzer mit bunten Mosaiksteinen – moder
 n\, farbenfroh und absolut einzigartig. \nDazu gibt’s frische Mimosas\,
  gute Gespräche und eine kreative Auszeit. Ganz ohne Vorkenntnisse\, aber
  mit ganz viel Freude am Ausprobieren.\nAlle Materialien sowie Drinks und 
 Snacks (vegan friendly) sind im Preis enthalten\, du brauchst nur vorbeizu
 kommen und loszulegen.\n stop scrolling start crafting – wir freuen uns 
 auf dich!
GEO:48.1251705;11.5676546
LOCATION:8 Arndtstraße 80469 München - DE
ORGANIZER:Schräge Palmen Club
END:VEVENT
END:VCALENDAR
