BEGIN:VCALENDAR
VERSION:2.0
CALSCALE:GREGORIAN
METHOD:PUBLISH
BEGIN:VEVENT
SUMMARY:Brunch comedy club !
DTSTART:20260502T090000Z
DTEND:20260502T130000Z
DTSTAMP:20260426T025914Z
CATEGORIES:
DESCRIPTION:Le premier brunch-comédy club débarque à Bordeaux !\nRendez
 -vous tous les premiers samedis du mois\, pour bruncher et rigoler !\nUn m
 enu unique comprenant : \nUne boisson chaude + Une boisson froide + Une r
 ecette salée et son accompagnement + Un fromage blanc gourmand + Une pât
 isserie maison !\nLe service se déroulera de 11h à 13h (arrivez à l'heu
 re pour avoir le temps de bruncher !) pour un début de show qui débutera
  à 13h30.\nUne line-up d'artistes confirmés pour un samedi "FOU FOU FOUU
 UUU" \nRéservez votre créneau dès maintenant !\nPlus d'informations su
 r : @les_Beigneurs !\nA trés vite \n \n
GEO:44.8424692;-0.5812324999999999
LOCATION:24 Rue du Palais Gallien 33000 Bordeaux - FR
ORGANIZER:Les Beigneurs
END:VEVENT
END:VCALENDAR
