BEGIN:VCALENDAR
VERSION:2.0
CALSCALE:GREGORIAN
METHOD:PUBLISH
BEGIN:VEVENT
SUMMARY:Fête du jeu - FLASHMOB - Samedi 30 mai - De 17h à 17h30
DTSTART:20260530T150000Z
DTEND:20260530T153000Z
DTSTAMP:20260421T033750Z
CATEGORIES:
DESCRIPTION:\nFLASHMOB – FÊTE DU JEU \n\n	Envie de bouger et de vous a
 muser ? Rejoignez le Flashmob Holimouv et apprenez la chorégraphie "HO
 LIMOUV SOUL TRAIN" avec Rebecca RHENY ! \n\n	 \n\nSamedi 30 mai 2026 de
  17h à 17h30\n	Gymnase PERROT (29 rue Jean Jaurès – 28700 AUNEAU-BLEU
 RY-SAINT-SYMPHORIEN)\n\nFinal à 17h30 : grande chorégraphie collective 
 !\n\n	 \n\n	✔️ Gratuit – dès 5 ans\n	À vivre en famille ou entre 
 amis\n\n	Aperçu ici : https://youtube.com/shorts/xwrKpejWMXI?si=fQEpFZa3
 asAk7D6B\n\n	#Flashmob #Auneau #DansePourTous #FeteDuJeu #HipHop #Holimouv
  #SortieFamille\n\n	 \n\nRenseignements :\n\n	Espace Dagron : 02 37 91 90
  90\n\n	Pour toute annulation\, merci de prévenir l’Espace Dagron.\n\n	
 Il n'est pas nécessaire d'imprimer votre billet\, un contrôle nominatif 
 sera effectué lors de votre venue.\n\n	 \n
LOCATION:29 rue Jean Jaurès 28700 Auneau-Bleury-Saint-Symphorien - FR
ORGANIZER:Espace Dagron
END:VEVENT
END:VCALENDAR
