BEGIN:VCALENDAR
VERSION:2.0
CALSCALE:GREGORIAN
METHOD:PUBLISH
BEGIN:VEVENT
SUMMARY:Brunch comedy club !
DTSTART:20260418T090000Z
DTEND:20260418T140000Z
DTSTAMP:20260423T060520Z
CATEGORIES:
DESCRIPTION:Le premier brunch-comédy club débarque à Bordeaux !\nRendez
 -vous tous les premiers samedis du mois\, pour bruncher et rigoler !\nUn m
 enu unique comprenant : \nUne boisson chaude (Café ou matcha latte)\n+\n
  Une boisson froide (Jus d'orange pressé ou thé glaçé maison)\n+\nUne
  recette salée et son accompagnement (Poulet gourmand\, saumon fruité ou
  egg beigneurs)\n+\nUn fromage blanc gourmand\n+\nUne pâtisserie maison (
 cookie\, madeleine\, banana bread...) !\n \n- Le service se déroulera de
  11h à 13h (arrivez à l'heure pour avoir le temps de bruncher !) pour u
 n début de show qui débutera à 13h30.\nUne line-up d'artistes confirmé
 s pour un samedi "FOU FOU FOUUUUU" \nRéservez votre créneau dès mainte
 nant !\nPlus d'informations sur : @les_Beigneurs !\nA trés vite ! \n
GEO:44.8424692;-0.5812324999999999
LOCATION:24 Rue du Palais Gallien 33000 Bordeaux - FR
ORGANIZER:Les Beigneurs
END:VEVENT
END:VCALENDAR
