BEGIN:VCALENDAR
VERSION:2.0
CALSCALE:GREGORIAN
METHOD:PUBLISH
BEGIN:VEVENT
SUMMARY:Fête du jeu - FLASHMOB - Samedi 30 mai - De 14h30 à 15h
DTSTART:20260530T123000Z
DTEND:20260530T130000Z
DTSTAMP:20260421T033523Z
CATEGORIES:
DESCRIPTION:\nFLASHMOB – FÊTE DU JEU \n\n	Envie de bouger et de vous a
 muser ? Rejoignez le Flashmob Holimouv et apprenez la chorégraphie "HOLI
 MOUV SOUL TRAIN" avec Rebecca RHENY ! \n\n	 \n\nSamedi 30 mai 2026 de 
 14h30 à 15h30\n	Gymnase PERROT  (29 rue Jean Jaurès – 28700 AUNEAU-BL
 EURY-SAINT-SYMPHORIEN)\n\nFinal à 17h30 : grande chorégraphie collectiv
 e !\n\n	 \n\n	✔️ Gratuit – dès 5 ans\n	À vivre en famille ou entr
 e amis\n\n	Aperçu ici : https://youtube.com/shorts/xwrKpejWMXI?si=fQEpFZ
 a3asAk7D6B\n\n	#Flashmob #Auneau #DansePourTous #FeteDuJeu #HipHop #Holimo
 uv #SortieFamille\n\nRenseignements :\n\n	Espace Dagron : 02 37 91 90 90\n
 \n	Pour toute annulation\, merci de prévenir l’Espace Dagron.\n\n	Il n'
 est pas nécessaire d'imprimer votre billet\, un contrôle nominatif sera 
 effectué lors de votre venue.\n\n	 \n
LOCATION:29 rue Jean Jaurès 28700 Auneau-Bleury-Saint-Symphorien - FR
ORGANIZER:Espace Dagron
END:VEVENT
END:VCALENDAR
