BEGIN:VCALENDAR
VERSION:2.0
CALSCALE:GREGORIAN
METHOD:PUBLISH
BEGIN:VEVENT
SUMMARY:Summer Party
DTSTART:20260620T150000Z
DTEND:20260621T160000Z
DTSTAMP:20260424T043133Z
CATEGORIES:
DESCRIPTION:\nSamedi 20 Juin:\n\n	Acces 17h (vous pourrez reserver vos cha
 ises) mais surtout retrouver des activités surprises qui vous seront dév
 oilées sur nos reseaux dans quelques semaines\n\n	18h bal Ginguette du di
 sco à nos jours en passant par les années 80/90/2000\n\n	19h barbecue sn
 acking (et toujours la musique pour s'ambiancer)\n\n	20h30 1ere partie Gal
 a de Danse les Grandes voix\n\n	21h30 entracte\n\n	22h 2eme partie Gala d
 e Danse les Grandes voix\n\n	23h Color Party musical\n\n	23h30 Fin de soir
 ée \n\n	 \n\nDimanche 21 Juin \n\n	Acces 14h30 (vous pourrez reserver 
 vos chaises) mais surtout retrouver des activités surprises qui vous sero
 nt dévoilées sur nos reseaux dans quelques semaines\n\n	Gouter snacking\
 n\n	15h30 1ere partie du Gala Fitness Eclats de lumière\n\n	16h Entracte\
 n\n	16h30 2eme partie du Gala Fitness Eclats de lumière\n\n	17h Color P
 arty musical\n\n	17h30 fin d'évenement\n
LOCATION:18 Imp. Ampère 38110 Rochetoirin - FR
ORGANIZER:ms8
END:VEVENT
END:VCALENDAR
