BEGIN:VCALENDAR
VERSION:2.0
CALSCALE:GREGORIAN
METHOD:PUBLISH
BEGIN:VEVENT
SUMMARY:Visite #6 Poste de pilotage connecté On Dijon
DTSTART:20260606T070000Z
DTSTAMP:20260422T141332Z
CATEGORIES:
DESCRIPTION:Une gestion performante des interventions sur le territoire gr
 âce au Poste de Pilotage Connecté OnDijon\nMis en service le 11 avril 20
 19\, le projet OnDijon incarne à une échelle inédite – ce qui en fait
  une référence visitée par des délégations du monde entier – la ges
 tion à distance\, la coordination et l'entretien des équipements urbains
  de Dijon métropole.\nLes objets de l'espace public (mâts d'éclairage\,
  feux de circulation\, bornes escamotables\, caméras de vidéoprotection.
 ..) ou encore les services de voirie sont pilotés dans un même lieu : un
  poste de commandement génération\, collectant toutes les données. Tout
 es les communes sont concernées\, y compris les plus petites. Le service 
 public s'adapte ainsi davantage aux besoins des habitants en veillant en t
 emps réel et à un coût réduit à leur sécurité\, et en accompagnant 
 au mieux leur mobilité et la préservation de leur cadre de vie.\nAménag
 é dans un espace de 1 200m² sécurisé\, ce poste de pilotage connecté 
 (le PPC) rassemble environ 80 personnes : environ 35 agents des différent
 s services de la collectivité\, 15 collaborateurs issus des entreprises d
 u groupement Bouygues - Citelum - Suez ainsi qu'une trentaine de personnes
  de la société Keolis Dijon Mobilité.\nAu sein du poste de pilotage\, s
 ont ainsi présents :\n\nLe personnel du portail téléphonique (standard 
 mairie\, CCAS\, Allo mairie\, Allo resto\, sports…) qui traite près de 
 700 appels par jour des habitants\,\nLes agents du Centre d'Information et
  de Veille Opérationnelle (CIVO) composés de policiers municipaux et d'o
 pérateurs vidéo chargés de la sécurité de l'espace public\,\nLes équ
 ipes du groupement qui coordonnent et gèrent les interventions sur l'espa
 ce public (encombrants\, nettoyage voirie\, enlèvement des TAG\, incendie
 ...)\, assurent la télésurveillance des bâtiments et la supervision des
  équipements urbains (éclairage public\, carrefours à feux\, bornes d'a
 ccès zones piétonnes\, Journaux électroniques d'information)\,\nL'équi
 pe DIVIA en charge des mobilités sur le territoire.\n\n \nProchaine visi
 te : balade oenologique - samedi 30 mai\nInscription ouverte sur dijon-met
 ropole.fr à partir du lundi 27 avril\n \nA suivre  :\nAtelier tram-bus 
 André Gervais : samedi 27 juin
GEO:47.31851260000001;5.0190736
LOCATION:64 Quai Nicolas Rolin 21000 Dijon - FR
ORGANIZER:VILLE DE DIJON
END:VEVENT
END:VCALENDAR
