BEGIN:VCALENDAR
VERSION:2.0
CALSCALE:GREGORIAN
METHOD:PUBLISH
BEGIN:VEVENT
SUMMARY:Summer Camp de la Facilitation - Édition 2026
DTSTART:20260701T073000Z
DTEND:20260702T153000Z
DTSTAMP:20260424T231934Z
CATEGORIES:
DESCRIPTION:\n	Vous êtes facilitateur interne ou externe et vous souhaite
 z muscler votre geste professionnel et continuer à progresser dans votre 
 pratique\, le tout dans un cadre convivial et sécurisé ?\n\n	La Kasa YA+
 K vous ouvre ses portes les 1er et 2 juillet prochains pour la troisième 
 édition du Summer Camp de la Facilitation : 2 jours de partages et d’ap
 prentissages sous le signe du DOJO !\n\n	 \n\nMais qu’est-ce qu’un DO
 JO nous direz-vous ? \n\nLe dojo (道場\, dōjō?\, [doːdʑoː]) est le
  lieu consacré à la pratique des budō (arts martiaux japonais) ou à la
  méditation bouddhiste zen. Littéralement\, dō signifie la voie et jō 
 le lieu : le dojo est donc l’endroit où l’on vient pratiquer la voie\
 , apprendre par l’expérience et progresser par l’entraînement.\n\n	
  \n\n	Au-delà de la simple salle de pratique\, le dojo est un espace d
 ’apprentissage vivant : on y répète des gestes\, on teste\, on ajuste\
 , on observe les autres\, on reçoit du feedback. On y cultive à la fois 
 l’exigence\, l’humilité et la progression collective.\n\n	C’est dan
 s cet état d’esprit que nous avons imaginé cette nouvelle édition du 
 summer camp : un espace d'entraînement sécurisé permettant d’affiner 
 sa posture en facilitation\, acquérir des outils et repartir avec plus de
  confiance dans sa pratique.\n\n	 \n\n	Le nombre de participants au summe
 r camp est limité à 25 personnes pour une ambiance d’apprentissage con
 vivial assurée !  \n\n	 \n\n	—\n\n	 \n\nLe format : \n\n\n		Nous a
 vons imaginé des ateliers de 2h00 s’articulant autour des étapes du pr
 ocessus de facilitation :  Qualification\, conception\, animation et suiv
 i \n\n		Ces ateliers sont pensés et animés comme des sessions en DOJO 
 \n\n		Nous constituerons des groupes réduits de 4 à 8 participants pour 
 maximiser le temps de pratique et la qualité des feedbacks\n\n		Pour chaq
 ue DOJO (à l’exception du premier)\, vous aurez le choix entre deux th
 ématiques d’approfondissement \n\n\n	 \n\nAu programme des DOJO\n\n	
  \n\nQualification\n\n	>>DOJO : S’entraîner à questionner un commandi
 taire pour faire émerger le véritable besoin dans des environnements com
 plexes\n\n	 \n\nConception \n\n	>>DOJO A : Analyser un déroulé de faci
 litation pour anticiper les points de friction et imaginer des alternative
 s pour l’animation\n\n	>>DOJO B : Prototyper une démarche de facilitati
 on sur la durée et comprendre les enjeux associés\n\n	 \n\nAnimation \
 n\n	>>DOJO A : Faciliter dans des situations diverses\, complexes et inatt
 endues\n\n	>>DOJO B : Ajuster sa posture aux besoins des parties prenantes
  (co-facilitateur\, commanditaire\, participants) pour faciliter la colla
 boration\n\n	 \n\nSuivi \n\n	>>DOJO A : S’exercer à faire alliance av
 ec un commanditaire autour de critères de succès clairs et mesurables\n\
 n	>>DOJO B : Clôturer une mission avec impact : comment valoriser\, faire
  le bilan et soutenir la mise en mouvement\n\n	 \n\nEn complément des DO
 JO\n\n	Pour chaque journée\, nous vous proposerons deux ateliers au choix
  selon vos envies et vos besoins. \n\n	 \n\nAtelier “Réflexivité & P
 eer Coaching” \n\n	>> Un temps pour prendre du recul sur les ateliers v
 écus et progresser dans sa pratique entre pairs\n\n	 \n\nAtelier “Des 
 supports qui claquent au service de votre métier” \n\n	>> Un temps pou
 r renforcer l’impact de vos supports de facilitation dans le cadre de vo
 s accompagnements\n\n	 \n\n	 \n\nPour clôturer la première journée \
 n\n	Nous vous proposons de célébrer l’été et le plaisir d’être en
 semble en terminant la première journée par un apéro festif ! \n\n	 \
 n\n	 \n\n\nInscriptions et tickets \n\n1. Paiement via Weezevent\n\nPour
  une inscription simple et rapide\, vous pouvez utiliser la fonction de pa
 iement par carte bancaire intégrée de Weezevent. Veuillez alors sélecti
 onnez l'option "Carte bancaire" lorsque vous choisissez votre mode de paie
 ment.\n\n2. Coordonnées de facturation et virement \n\nSi vous préfére
 z recevoir un devis pour obtenir un bon de commande ou faire une demande d
 e financement auprès de votre OPCO\, sélectionnez l'option "Réservation
 " lorsque vous choisissez votre mode de paiement et communiquez-nous vos c
 oordonnées pour la facturation à team@yaplusk.fr. Nous vous enverrons 
 une facture détaillée avec les instructions de paiement par virement.\n\
 nQuelle que soit l'option que vous choisissez\, veuillez vous assurer de s
 uivre les instructions fournies lors du processus d'inscription.\n\nSi vou
 s avez des questions ou des préoccupations\, n'hésitez pas à nous conta
 cter par mail team@yaplusk.fr\n\nPour rappel :\n		Nous avons des tarifs i
 ndépendants/particuliers et entreprises.\n\nYA+K est un organisme de form
 ation certifié Qualiopi et la formation peut être prise en charge par vo
 tre OPCO.\n\n\n	 \n
LOCATION:11 rue Rapail  94800 Villejuif - FR
ORGANIZER:YA+K
END:VEVENT
END:VCALENDAR
