BEGIN:VCALENDAR
VERSION:2.0
CALSCALE:GREGORIAN
METHOD:PUBLISH
BEGIN:VEVENT
SUMMARY:Livres blancs\, corps æncrés | Julie Lombe
DTSTART:20260423T173000Z
DTEND:20260423T200000Z
DTSTAMP:20260421T131710Z
CATEGORIES:
DESCRIPTION:\nSoirée poésie à 19h30\n\n	Peut-on vraiment juger un livre
  à sa couverture\, un être à son apparence ?\n\n	 \n\nL’exposition
  temporaire\, a minima\, du 20.03.2026 au 27.09.2026 à Wittockiana\, rass
 emble des ouvrages qui frôlent le silence et déplacent la pratique de la
  lecture. Les Midis poésie proposent donc un dialogue de cette thématiqu
 e avec Rendre Soin\, un ouvrage de poésie contemporaine écrit par Julie 
 Lombe et publié aux éditions Blast. Julie Lombe en fera des lectures et 
 confrontera la matérialité des couleurs\, textures\, volumes\, des écri
 tures\, des imaginaires\, ainsi que les normes sociales\, marges et scanda
 les.\n\n	 \n\nInfos pratiques : \n\n	 \n\nEn amont de cette soirée de 
 lectures\, un atelier d’écriture animé par Julie Lombe est proposé le
  même jour\, de 17h à 19h\, à Wittockiana. Un tarif combiné est propos
 é pour les personnes souhaitant participer à la fois à l’atelier et 
 à la soirée.\n\n	 \n\nDurée : 1 heure\n
LOCATION:Rue du Bemel 23 1150 Woluwe-Saint-Pierre - BE
ORGANIZER:Midis poésie
END:VEVENT
END:VCALENDAR
