BEGIN:VCALENDAR
VERSION:2.0
CALSCALE:GREGORIAN
METHOD:PUBLISH
BEGIN:VEVENT
SUMMARY:B O D I E S concert
DTSTART:20260422T173000Z
DTSTAMP:20260420T050828Z
CATEGORIES:
DESCRIPTION:
GEO:47.3917827;0.6663878
LOCATION:8 Rue du Lieutenant Roze 37520 La Riche - FR
ORGANIZER:Atelier Cave Saint Vincent
END:VEVENT
END:VCALENDAR
