BEGIN:VCALENDAR
VERSION:2.0
CALSCALE:GREGORIAN
METHOD:PUBLISH
BEGIN:VEVENT
SUMMARY:Job Dating
DTSTART:20260428T150000Z
DTSTAMP:20260423T152251Z
CATEGORIES:
DESCRIPTION:Le Job Dating Alternance de Lodima Ouest\nTu as pris la bonne 
 décision\, prends ton avenir en main !\nL'accès au job dating est GRATUI
 T\nCe formulaire d'inscription a pour objectif de recueillir tes informati
 ons et disponibilités afin de faciliter ta participation au Job Dating or
 ganisé par Lodima Ouest. Cet événement gratuit te permettra de rencontr
 er des recruteurs et de saisir des opportunités professionnelles qui sont
  adaptées à ton profil.\nTu auras aussi l'occasion de participer à des 
 séances de coaching et de perfectionnement de ton CV grâce à l'équipe 
 des Formateurs pour Adulte de Retravailler dans l'Ouest qui sera présente
 .\n \nA bientôt !\nMardi 28 avril 2026 à 17h à l'école Lodima Ouest L
 anester
GEO:47.7865241;-3.3186901
LOCATION:165 Rue de la Montagne du Salut 56600 Lanester - FR
ORGANIZER:Lodima Ouest Lanester
END:VEVENT
END:VCALENDAR
