BEGIN:VCALENDAR
VERSION:2.0
CALSCALE:GREGORIAN
METHOD:PUBLISH
BEGIN:VEVENT
SUMMARY:Dotmarket IRL : venez avec une envie\, repartez avec une stratégi
 e (Paris\, 17e)
DTSTART:20260619T170000Z
DTSTAMP:20260423T142508Z
CATEGORIES:
DESCRIPTION:Participez à la 2nde rencontre Dotmarket IRL (In Real Life)\,
  à la Fabrique du Reprenariat (Paris 17)\nRacheter un business digital n
 ’est pas une question d’opportunité\, mais une question de stratégi
 e.\nEt toutes les stratégies ne mènent pas au même résultat.\nCertaine
 s permettent de sécuriser.D’autres de créer de la valeur rapidement.D
 ’autres encore confrontent à une réalité très différente de ce qu
 ’on avait imaginé.\nLa vraie question n’est donc pas : “Quel busine
 ss acheter ?”\nMais : “Quelle stratégie de reprise est faite pour moi
  ?”\nAlors pour ce VENDREDI 19 JUIN\, venez avec une envie\, et repartez
  avec une stratégie ! \nLe format (en présentiel)\n3 repreneurs.3 appro
 ches concrètes de la reprise.\n\nconstruire un groupe par acquisition\nac
 heter\, optimiser et revendre\nacheter avec une vision long terme\, et piv
 oter.\n\nCe que vous allez vraiment comprendre\nComment choisir votre stra
 tégie AVANT d’acheter.Ce qui se joue réellement pendant un deal.Et sur
 tout : ce que vous allez vivre une fois le business repris\nLa vraie diff
 érence de cette soirée\nCe n’est pas une conférence\, ni un simple n
 etworking.\nC’est un moment où vous venez travailler votre stratégie.\
 nVous venez avec une intention (floue ou claire)Vous repartez avec des ang
 les concrets\, parfois des décisions\nAccès direct à de l’échange st
 ratégique\nTout au long de la soirée :\n\nVous pourrez échanger directe
 ment avec les intervenants\nConfronter votre réflexion à des repreneurs 
 avancés\nEt surtout\, discuter stratégie avec moi et l’équipe Dotmark
 et\n\nPas en surface\, pas en pitch.\nMais sur le fond : votre projet\, vo
 s arbitrages\, vos angles morts.\nConcrètement\, on va parler :\nD’ache
 ter un business rentable vs un business à transformerD’acheter pour exp
 loiter vs acheter pour revendreDes erreurs de lecture les plus fréquentes
 Des écarts entre ce que vous pensez acheter… et la réalitéDes premiè
 res décisions après reprise (et leurs impacts)\nCe que vous allez réell
 ement gagner\nUne vision claire de votre stratégie de repriseUne meilleur
 e capacité à analyser un dealEt surtout… beaucoup moins d’illusions\
 nEt dans certains cas : un vrai repositionnement de votre approche\nEt si 
 vous êtes cédant ?\nTous les acheteurs ne regardent pas votre business d
 e la même façon.\nCertains cherchent du rendement.D’autres du potentie
 l.D’autres encore une première expérience.\nComprendre leur logique\, 
 c’est comprendre pourquoi votre business attire… ou non.\nCe qui est i
 nclus dans la soirée\n\nAccès à la table ronde (retours d’expérience
  sans filtre)\nÉchanges stratégiques avec les intervenants et l’équip
 e Dotmarket\nNetworking qualifié (acheteurs\, cédants\, partenaires)\nBo
 issons et planches à partager\nUn cadre volontairement limité pour favor
 iser des échanges de qualité\n\nImportant\nPlaces limitées à 75 person
 nes.\nVenez avec une intention.Repartez avec une stratégie.
GEO:48.8837544;2.3127505
LOCATION:2 Bis Rue Léon Cosnard 75017 Paris - FR
ORGANIZER:DOTMARKET FRANCE
END:VEVENT
END:VCALENDAR
