BEGIN:VCALENDAR
VERSION:2.0
CALSCALE:GREGORIAN
METHOD:PUBLISH
BEGIN:VEVENT
SUMMARY:CE REFRAIN QUI TE PLAIT\, LECTURE MUSICALE & TALK
DTSTART:20260613T160000Z
DTEND:20260613T220500Z
DTSTAMP:20260421T113227Z
CATEGORIES:
DESCRIPTION:\nCe refrain qui te plaît\,\n\n\nLecture-musicale  d'après l
 e roman de Nadège Erika \nsuivi d'un talk  autour du sujet de la santé m
 entale en France \n\nUne adaptation de Fanny Dupin et Nadège Erika\nAvec 
 Françoise Gillard de la comédie française\, Abigaël Debit et Emilie Ma
 rsh\n\nSuite à la parution du roman  Ce refrain qui te plaît  de  Nad
 ège Erika  (autrice de  Mon petit )\, aux  éditions Harper Collins \,
 nous organisons une grande soirée publique consacrée à la  santé ment
 ale en France  et à la  place des aidants familiaux . La lecture musica
 le sera suivie d'un échange avec le public\, des professionnels de la san
 té\, des personnes concernées et des aidants familiaux.\n\nCe refrain qu
 i te plaît  est le récit intime et tendu de Kora\, mère célibataire q
 uadragénaire qui se bat pour protéger son fils\, Sol\, jeune adulte aux 
 prises avec des troubles psychiques.\n\nNadège Erika a rencontré ici en 
 lumière le parcours du combattant des proches aidants\, pris entre amour\
 , épuisement\, solitude et institutions défaillantes.\n\nUn événement 
 artistique\, engagé et citoyen\, mêlant littérature\, musique et débat
  public\, afin de rendre visibles celles et ceux qui accompagnent au quoti
 dien des proches touchés de troubles psychiques.\n\nDons possibles au pro
 fit des associations : La Maison Perchée & La Sentinelle des Aidants \n
LOCATION:6\, Rue Gambetta 93400 SAINT OUEN - FR
ORGANIZER:MOB HOUSE
END:VEVENT
END:VCALENDAR
