BEGIN:VCALENDAR
VERSION:2.0
CALSCALE:GREGORIAN
METHOD:PUBLISH
BEGIN:VEVENT
SUMMARY:Activités éducatives pour enfants | Conférence du 29 avril de 1
 4h30 à 16h
DTSTART:20260429T123000Z
DTSTAMP:20260423T154838Z
CATEGORIES:
DESCRIPTION:\n\n\nAfin de vous accueillir au mieux\, nous vous prions de b
 ien vouloir vous présenter à 14h20.Les activités finiront à 16h en mê
 me temps que la fin de la conférence.\nLes enfants pourront découvrir le
 s plantes comestibles dans le jardin de Latitude 21 et participer à une a
 ctivité sensorielle autour de l'éducation au goût. Chaque enfant réali
 sera les 2 activités proposées. \nLes activités sont ouvertes uniqueme
 nt aux enfants des parents assistant à la conférence.\n\nCe type d'activ
 ité étant fortement demandé\, nous vous invitions à tenir l'engagement
  associé à l'inscription\, ou à prévenir dès que possible en cas d'em
 pêchement (à l'adresse leclimatenquestions@metropole-dijon.fr) \n \n
  \n\n\n\n\nLorsque vous soumettez ce formulaire\, il ne collecte pas auto
 matiquement vos détails\, tels que le nom et l’adresse e-mail\, sauf si
  vous le fournissez vous-même.\n\n
GEO:47.32548329999999;5.0623197
LOCATION:33 Rue de Montmuzard 21000 Dijon - FR
ORGANIZER:VILLE DE DIJON
END:VEVENT
END:VCALENDAR
