BEGIN:VCALENDAR
VERSION:2.0
CALSCALE:GREGORIAN
METHOD:PUBLISH
BEGIN:VEVENT
SUMMARY:Nantes - Journée Annuelle de l'Expérience Patient
DTSTART:20260623T070000Z
DTEND:20260623T150000Z
DTSTAMP:20260424T174052Z
CATEGORIES:
DESCRIPTION:\n	Vous êtes cadres de santé\, médecins\, directeurs\, prof
 essionnels en charge de la qualité des soins et des relations avec les us
 agers\, membres d’une association\, d’une agence de santé\, d’une s
 ociété savante\, d’une entreprise de santé\, étudiants\, ou simpleme
 nt intéressés par le sujet — y compris patient ou proche.\n\n	Cette jo
 urnée régionale est conçue comme un temps de formation et d’échanges
  pour partager des repères\, découvrir des retours d’expérience et id
 entifier des leviers concrets d’amélioration de l’expérience patient
 . L’objectif est que chacun puisse repartir avec des éléments directem
 ent transposables à l’échelle individuelle\, d’une équipe\, ou d’
 une organisationdans son ensemble.\n\n	L'inscription à la journée peut s
 e faire au titre de la formation continue\, en lien avec notre partenaire 
 formation Corpus Learning.\n\n	Le petit-déjeuner\, le déjeuner et la pau
 se goûter sont inclus.\n\n	Chers membres de l’IFEP\, vous bénéficiez 
 d’une réduction lors de votre inscription. Rendez-vous dans votre espac
 e adhérent pour récupérer votre code de réduction et réserver votre 
 place.\n
LOCATION:9 bd Vincent Gâche 44200  NANTES - FR
ORGANIZER:Institut Français de l'Expérience Patient
END:VEVENT
END:VCALENDAR
