BEGIN:VCALENDAR
VERSION:2.0
CALSCALE:GREGORIAN
METHOD:PUBLISH
BEGIN:VEVENT
SUMMARY:Paint & Drink "Fleurs texturées" avec le Canvas club aux • Hall
 es du verger
DTSTART:20260425T140000Z
DTEND:20260425T170000Z
DTSTAMP:20260423T072828Z
CATEGORIES:
DESCRIPTION:Edition spéciale :  "Fleurs texturées" \n\nUne édition sp
 éciale pour ceux qui veulent essayer des rendus en reliefs en réalisant 
 de belles toiles de fleurs !\nMatière utilisée : modeling paste !\nPas d
 e compétences requises.\n \nBienvenue au Canvas Club ! \nOn boit un verr
 e\, on peint\, on décompresse aux endroits les plus cool du coin !\nCa do
 nne quoi ? Tu viens seul\, avec amis\, famille\, collègues\, tu rencontre
 s du monde\, tu te dandines un peu ( beaucoup ?) sur la musique et surtout
  tu explores ta créativité comme tu l'entends en réalisant ta propre oe
 uvre d'art !\nToi qui n'a jamais tenu un pinceau\, tous nos débutants pou
 rraient te dire que tu es capable ! ( Oh ça oui ! )\nToi qui adore peindr
 e\, mais qui n'en prend pas le temps\, voici un espace ou tu peux venir re
 nouer avec cet art qui te fait tant de bien !\nUne belle idée d'activité
  créative et relaxante qui te permet de t’évader du quotidien et de fa
 ire passer tes sources de stress en arrière plan.\nRejoins-nous aussi sur
  certains ateliers à thèmes spéciaux pour plus de créativité ou sur d
 'autres ateliers aux ambiances festives !\n \nRetrouvez nous aux Halles d
 u verger !\nNous sommes de retour aux halles du verger\, lieu de vie chale
 ureux avec un marché et un restaurant-bar au cœur de l'écoquartier Eur
 êka à Castelnau-le-Lez. . Familial\, relax\, convivial\, nature\, bonne 
 ambiance\, jeux d'extérieur pour grands et petits\, autant d'ingrédients
  qui en font un lieu incontournable !\nAllez\, viens peindre avec nous et 
 réveilles le Picasso qui sommeille en toi !\n \nInfos\nNiveau requis -10
 0 à 100 ( On a des modèles pour les débutants ! )\nTout le matériel fo
 urni ( Chevalet\, toile\, pinceau\, peinture\, palette etc )\nUn guide pei
 nture\n1 verre offert\nRepars avec ton oeuvre\nEnfants de 6 à 11 ans acco
 mpagnés par un adulte\n \n -  Animaux autorisés sur ce lieu\n \nAccè
 s\n\nA VELO : voies cyclables\, 15min du centre ville\nEN BUS : BUS 51 - 
 Arrêt Marcel Dassault\nVOITURE : à 10min du centre ville\nPARKING GRATUI
 T : Parking des Halles du verger\n\n \nNous échangeons avec vous sur nos
  réseaux\nInstagram : thecanvasclub34\nFacebook : The canvas club 34\nM
 ail : hello@thecanvasclub34.com\nToutes les infos ici : www.thecanvasclub3
 4.com\n \nOn se voit là-bas ?\nLili du Canvas Club
GEO:43.6223657;3.9179382
LOCATION:320 Rue Averroès 34170 Castelnau-le-Lez - FR
ORGANIZER:The Canvas club 34
END:VEVENT
END:VCALENDAR
