BEGIN:VCALENDAR
VERSION:2.0
CALSCALE:GREGORIAN
METHOD:PUBLISH
BEGIN:VEVENT
SUMMARY:Paint & Drink avec le Canvas club au  •  Restaurant l'atmosphèr
 e
DTSTART:20260423T170000Z
DTEND:20260423T200000Z
DTSTAMP:20260423T054754Z
CATEGORIES:
DESCRIPTION:Bienvenue à l'Afterwork créatif du Canvas Club ! ✨\nOn boi
 t un verre\, on peint\, on décompresse aux endroits les plus cool du coin
  !\nCa donne quoi ? Tu viens seul\, avec amis\, famille\, collègues\, tu 
 rencontres du monde\, tu te dandines un peu ( beaucoup ?) sur la musique e
 t surtout tu explores ta créativité comme tu l'entends en réalisant ta 
 propre oeuvre d'art !\nToi qui n'a jamais tenu un pinceau\, tous nos débu
 tants pourraient te dire que tu es capable ! ( Oh ça oui ! )\nToi qui ado
 re peindre\, mais qui n'en prend pas le temps\, voici un espace ou tu peux
  venir renouer avec cet art qui te fait tant de bien !\nUne belle idée d'
 activité créative et relaxante qui te permet de t’évader du quotidien
  et de faire passer tes sources de stress en arrière plan.\nRejoins-nous 
 aussi sur certains ateliers à thèmes spéciaux pour plus de créativité
  ou sur d'autres ateliers aux ambiances festives !\n \nRestaurant L'atmos
 phère ✨\nViens avec nous pour ce nouveau Paint & Drink au restaurant l'
 atmosphère ! Nous seront plongés dans une ambiance nature et chaleureuse
  pour réaliser des oeuvre d'art de haut vol ! PS: Le choix de Tapas est g
 randiose !\nAllez\, viens et réveilles le Picasso qui sommeille en toi !
 ✨\n \nInfos\n✅Niveau requis -100❤️ à 100❤️ ( On a des modèl
 es pour les débutants ! )\n✅Tout le matériel fourni ( Chevalet\, toile
 \, pinceau\, peinture\, palette etc )\n✅Un guide peinture\n✅1 verre of
 fert\n✅Repars avec ton oeuvre\n✅Enfants de 6 à 11 ans accompagnés pa
 r un adulte\n \n \nAccès\n\nEN TRAMWAY T1 ou T3 Arrêt Port-Marianne - 
 T4 Arrêt Georges Frêche -  Hôtel de ville \nEN BUS L16 Arrêt Port-M
 arianne - L15 Arrêt Vauguières\nEN VOITURE Parkings à proximité\n\n \
 nNous échangeons avec vous sur nos réseaux✨\nInstagram : thecanvasclu
 b34\nFacebook : The canvas club 34\nMail : hello@thecanvasclub34.com\nTou
 tes les infos ici : www.thecanvasclub34.com\n \nOn se voit là-bas ?✨\n
  
GEO:43.6004425;3.9004982
LOCATION:90 Rue de Galata 34000 Montpellier - FR
ORGANIZER:The Canvas club 34
END:VEVENT
END:VCALENDAR
