BEGIN:VCALENDAR
VERSION:2.0
CALSCALE:GREGORIAN
METHOD:PUBLISH
BEGIN:VEVENT
SUMMARY:Paint & Drink "Aquarelle" avec le Canvas club • Jost Hôtel
DTSTART:20260422T170000Z
DTEND:20260422T200000Z
DTSTAMP:20260422T091112Z
CATEGORIES:
DESCRIPTION:Edition spéciale :  "Aquarelle"\nLa session aquarelle est l
 à après de nombreuses demandes !\nCouleurs\, eau\, liberté — on explo
 re ensemble\, dans une ambiance chaleureuse et conviviale.\nUne édition s
 péciale pour ceux qui veulent essayer ces jeux d'eau sublimes et thérape
 utiques !\nPas de compétences requises.\n \nPlusieurs modèles à reprod
 uire\n\n \nL'Afterwork créatif du Canvas Club \nOn boit un verre\, on p
 eint\, on décompresse aux endroits les plus cool du coin !\nCa donne quoi
  ? Tu viens seul\, avec tes amis\, famille\, collègues\, tu rencontres du
  monde\, tu te dandines un peu ( beaucoup ?) sur la musique et surtout tu 
 explores ta créativité comme tu l'entends en réalisant ta propre oeuvre
  d'art !\nToi qui n'a jamais tenu un pinceau\, tous nos débutants pourrai
 ent te dire que tu es capable ! ( Oh ça oui ! )\nToi qui adore peindre\, 
 mais qui n'en prend pas le temps\, voici un espace ou tu peux venir renoue
 r avec cet art qui te fait tant de bien !\nUne belle idée d'activité cr
 éative et relaxante qui te permet de t’évader du quotidien et de faire
  passer tes sources de stress en arrière plan.\nRejoins-nous aussi sur ce
 rtains ateliers à thèmes spéciaux pour plus de créativité ou sur d'au
 tres ateliers comme celui-ci aux ambiances festives !\n \nInfos\n\nNiveau
  requis -100 à 100 \nTout le matériel fourni ( Papier aquarelle\, pince
 aux\, peinture\, tabliers... )\nUn professeur d'art\n1 verre inclus\nRepar
 s avec ton oeuvre\n\n\n \n\n \nNous échangeons avec vous sur nos résea
 ux\nInstagram : thecanvasclub34\nFacebook : The canvas club 34\nMail : h
 ello@thecanvasclub34.com\nToutes les infos ici : www.thecanvasclub34.com\n
  \nOn se voit là-bas ?\nLili du Canvas Club\n
GEO:43.60458209999999;3.8790221
LOCATION:50 rue isabelle eberhardt 34000 Montpellier - FR
ORGANIZER:The Canvas club 34
END:VEVENT
END:VCALENDAR
