BEGIN:VCALENDAR
VERSION:2.0
CALSCALE:GREGORIAN
METHOD:PUBLISH
BEGIN:VEVENT
SUMMARY:Atelier « Publicité et Développement Durable » Impact des Nouv
 eaux Textes
DTSTART:20261215T133000Z
DTEND:20261215T163000Z
DTSTAMP:20260422T084946Z
CATEGORIES:
DESCRIPTION:\nOBJECTIFS :\n\n\n		Connaître le nouveau cadre légal issu 
 de la transposition de la Directive pour donner aux consommateurs les moye
 ns d’agir en faveur de la transition écologique.\n\n		Appliquer la Reco
 mmandation ARPP « Développement durable » actualisée en 2026.\n\n		M
 ettre en œuvre les bonnes pratiques pour élaborer une communication resp
 onsable.\n\n\n	 \n\nPROGRAMME\n\n1. Définition de l’allégation enviro
 nnementale et nouvelles pratiques commerciales trompeuses \; le Code de l
 a consommation modifié.\n\n2. La Recommandation « Développement durabl
 e » v4 de l’ARPP : \n\n\n		un champ d’application élargi pour tenir
  compte des attentes du corps social.\n\n		les impacts écocitoyens renfor
 cés.\n\n		l’interdiction des allégations génériques.\n\n		les princi
 pes de véracité\, proportionnalité\, clarté et autres dispositions exp
 licités.\n\n\n	 \n\n	Intervenants Julie Joseph\, Responsable déontologi
 e et Florent Sauli\, Juriste-conseil\n
LOCATION:En ligne\, via Zoom Meeting   - FR
ORGANIZER:Autorité de Régulation Professionnelle de la Publicité
END:VEVENT
END:VCALENDAR
