BEGIN:VCALENDAR
VERSION:2.0
CALSCALE:GREGORIAN
METHOD:PUBLISH
BEGIN:VEVENT
SUMMARY:THE INSPECTOR CLUZO + 1ÈRE PARTIE
DTSTART:20261210T193000Z
DTEND:20261210T225500Z
DTSTAMP:20260422T135302Z
CATEGORIES:
DESCRIPTION:\n\n		Les deux paysans gascons de THE INSPECTOR CLUZO ont sort
 i en juin 2025\, leur 10ème LP "LESS IS MORE"\, sur leur label comme dep
 uis le début de leur carrière il y a 20 ans. Cet album produit par leur 
 mentor\, VANCE POWELL à Nashville et enregistré en 4 jours en live\, a 
 été élu par ROLLING STONE 5ème meilleur LP de l'année 2025 (et 1er f
 rançais) !\n\n		Lors de l'été 2025\, ils ont ouvert pour NEIL YOUNG en 
 juillet en Europe et pour leurs amis de CLUTCH aux USA dans le mid west pr
 ofond\, où ils ont reçu un gros accueil. Ils y reviendront d'ailleurs en
 tre septembre et octobre 2026 pour une tournée de 40 dates dans les fin-f
 onds des USA et au Canada.\n\n		Toujours auto-produits par choix et refus
 ant toutes signatures label ou tourneur\, le groupe continue l'application
  tant à la ferme qu'en musique\, d'une économie "Post-croissante"\, à l
 a fois locale et globale\, qu'ils croient plus adaptée selon eux au chan
 gement climatique notamment. \n\n		 \n\nOuverture des portes : 20h30\n\
 nDébut du concert : 21h00\n\n\n\np.p1 {margin: 0.0px 0.0px 0.0px 0.0px\;
  font: 12.0px 'Helvetica Neue'\; color: #454545}	\n\n\n\n
LOCATION:2 rue du président G. Pompidou 95110  Sannois - FR
ORGANIZER:ADAME
END:VEVENT
END:VCALENDAR
