BEGIN:VCALENDAR
VERSION:2.0
CALSCALE:GREGORIAN
METHOD:PUBLISH
BEGIN:VEVENT
SUMMARY:Conférence grand public - Troubles des Conduites Alimentaires : l
 es comprendre\, les repérer et agir à temps
DTSTART:20260601T170000Z
DTSTAMP:20260425T143221Z
CATEGORIES:
DESCRIPTION:\n	A l'occasion de la semaine nationale de sensibilisation aux
  Troubles des Conduites Alimentaires (TCA) du 1er au 7 juin 2026\, supervi
 sée par la Fédération Française Anorexie Boulimie (FFAB)\, le Centre d
 e Recours et de Coordination des Troubles des Conduites Alimentaires (CRC 
 TCA) Nord Nouvelle-Aquitaine Poitiers organise une conférence grand publi
 c sur les TCA le lundi 1er juin\, à Poitiers.\n\n	La conférence aura pou
 r thème : "Les Troubles des Conduites Alimentaires : les comprendre\, les
  repérer et agir à temps - Focus sur l'ARFID\, un trouble encore méconn
 u".\n\n	Avec les interventions de :\n\n	- Pr Ludovic GICQUEL\, Chef du Pô
 le Universitaire de Psychiatrie Enfant et Adolescent - CH Laborit Poitiers
 \n\n- Dr Marie MORELIERE\,  médecin généraliste - Royan\n\n- Mme Audre
 y MASSONNEAU\, diététicienne nutritionniste  - Royan\n\n\nDate : lundi 
 1er juin 2026\n\nHoraires : de 19h à 21h\n\nLieu : Salons de Blossac - 9 
 rue de la Tranchée\, Poitiers\n\n\n	Evénement gratuit.\n\n	 \n\n	 \n
LOCATION:9 Rue de la Tranchée 86000 Poitiers - FR
ORGANIZER:Centre Hospitalier Laborit
END:VEVENT
END:VCALENDAR
