BEGIN:VCALENDAR
VERSION:2.0
CALSCALE:GREGORIAN
METHOD:PUBLISH
BEGIN:VEVENT
SUMMARY:Spectacle équestre - Fête Médiévale de Crest 2026
DTSTART:20260523T170000Z
DTEND:20260523T200000Z
DTSTAMP:20260425T154313Z
CATEGORIES:
DESCRIPTION:\nSpectacle Equestre Le Prince William par la compagnie Indian
 s Vallée\n\n19 h : Ouverture du site : buvette et foodtrucks\n\n20 h 30 :
  début du spectacle (durée : environ 1 h)\n	 \n\n	 \n
LOCATION:Chemin des Plantas 26400 CREST - FR
ORGANIZER:Mairie de Crest
END:VEVENT
END:VCALENDAR
