BEGIN:VCALENDAR
VERSION:2.0
CALSCALE:GREGORIAN
METHOD:PUBLISH
BEGIN:VEVENT
SUMMARY:Pause créative et gourmande chez Désordre
DTSTART:20260419T133000Z
DTEND:20260419T160000Z
DTSTAMP:20260420T045836Z
CATEGORIES:
DESCRIPTION:Atelier de peinture sur céramique chez Désordre\nLe rendez-v
 ous parfait du dimanche pour se détendre\, créer et se faire plaisir! C
 hoisissez votre pièce en céramique et laissez libre cours à votre imagi
 nation tout en savourant une délicieuse brioche accompagnée d’une bois
 son latte de votre choix signé Désordre.\nTout le matériel nécessaire 
 sera mis à votre disposition. Après l’atelier\, Glaçage émaillera et
  cuira vos pièces. Elles seront prêtes à être récupérées trois sem
 aines plus tard\, dans le studio à Waterloo (Chaussée de Bruxelles 102).
 \nInformations pratiquesDate : dimanche 19 avril 2026Heure : 15h30–18h00
 Lieu : Désodre – Rue Théophile Delbar 15\, 1410 Waterloo\nConditions d
 ’annulationAnnulation possible jusqu’à 7 jours avant l’atelier. \n
 RéservationChoisissez votre pièce en céramique: le prix affiché inclut
  une brioche et une boisson latte de votre choix\, pour un total de 20€.
 \nOn se voit chez Désordre!
GEO:50.7165091;4.3966761
LOCATION:15 Rue Théophile Delbar 1410 Waterloo - BE
ORGANIZER:Glaçage Brussels
END:VEVENT
END:VCALENDAR
