BEGIN:VCALENDAR
VERSION:2.0
CALSCALE:GREGORIAN
METHOD:PUBLISH
BEGIN:VEVENT
SUMMARY:SPECTACLE « TROMP'RIT» : LES Z’HILARES à Hanches
DTSTART:20260425T183000Z
DTEND:20260425T200000Z
DTSTAMP:20260423T153833Z
CATEGORIES:
DESCRIPTION:\nL’information court … mais n’arrive pas toujours dans 
 le même état du départ à l’arrivée… Sans compter\, les communicat
 ions déformées dès le démarrage…\n\nDes sketchs\, à l’humour noir
  ou rose\, vous emmèneront dans les méandres de la « vérité » \, qui
 \, comme tout le monde le sait\, n’est qu’une question de point de vue
  !\n
LOCATION:25 rue de l'Eglise 28130 Hanches - FR
ORGANIZER:ACL Saint-Hilarion
END:VEVENT
END:VCALENDAR
