BEGIN:VCALENDAR
VERSION:2.0
CALSCALE:GREGORIAN
METHOD:PUBLISH
BEGIN:VEVENT
SUMMARY:Balade cyclo-agropastorale sur le causse de Blandas
DTSTART:20260523T120000Z
DTEND:20260523T154500Z
DTSTAMP:20260421T143808Z
CATEGORIES:
DESCRIPTION:A l'occasion de la Fête de la Nature\, et de Mai à Vélo\, e
 nfourchez votre vélo pour une découverte des paysages de l'agropastorali
 sme sur le causse de Blandas\, à deux coups de pédale du Cirque de Navac
 elles.\nDavid Gasc\, agronome de formation\, et moniteur vélo vous emmèn
 e pour une balade ponctuée d'arrêts thématiques (lecture de paysage\, g
 éologie) et d'une visite de ferme assortie d'une dégustation !\nCet itin
 éraire propose une immersion au coeur du causse de Blandas\, entre nature
  et patrimoine\, offrant paysages variés et sites remarquables. L’itin
 érance à vélo\, par sa mobilité active\, est une expérience sensible 
 du territoire\, propice à la découverte du paysage et des richesses patr
 imoniales du territoire.\nDétails\n\nBoucle de 35km et 350m de dénivelé
  positif\nDépart : 14h30 - Belvédères de Blandas\nRetour : 17h45-18h00 
 aux belvédères\nLes participant.es devront se munir de leur vélo et des
  équipements / tenus adaptés à la pratique sécurisée du vélo\nBalade
  grand public\, mais si non sportif\, VAE recommandé\nNombre max. de part
 icipant.es : 18 personnes\, y compris mineurs sous la responsabilité de l
 eurs parents.\nDégustation offerte. D'autres produits seront proposés pa
 r les éleveurs\, pensez à amener de l'espèce.\n\nCet évènement est or
 ganisé par le Grand Site du Cirque de Navacelles et le PETR Causses et C
 évennes.
LOCATION: 30770 Blandas - FR
ORGANIZER:Syndicat Mixte du Grand Site du Cirque de Navacelles
END:VEVENT
END:VCALENDAR
