BEGIN:VCALENDAR
VERSION:2.0
CALSCALE:GREGORIAN
METHOD:PUBLISH
BEGIN:VEVENT
SUMMARY:One Piece TCG Regionals - Sofia 2026 | 512 players
DTSTART:20260725T060000Z
DTEND:20260726T180000Z
DTSTAMP:20260423T161243Z
CATEGORIES:
DESCRIPTION:This page is for tickets for the One Piece Card Game Sofia Re
 gionals that will happen on Saturday\, July 25th and Sunday\, July 26th.\n
 This event will happen at John Atanasoff Forum in Sofia Tech Park\, locate
 d at м. Къро\, Boulevard "Tsarigradsko shose" 111Г\, 1784 Sofia\, Bu
 lgaria\nTickets are not transferible or exchangeable\, ticket resale is st
 rictly prohibited. Make sure to enter the correct Bandai TCG+ Membership n
 umber with your ticket purchase. There are 512 competitor tickets availab
 le.\n\nCompetitor Tickets will be released April 26th\, 09:00 EEST with al
 l tickets available.\nSpectator Tickets will be released at the same time 
 in this very same page.\nPlease ensure you are selecting the correct type 
 of ticket when purchasing. No changes will be allowed afterwards.\nIf tick
 ets sell out:\n\nCompetitor Waiting List will open April 26th\, at 11:00 C
 EST in the following webpage: https://my.weezevent.com/one-piece-sofia-202
 6-waitlist\n\n\n\nCompetitor tickets are non-fully refundable by Victory R
 oad. These are the ticket conditions:\n\nRefunds for the 70% of the ticket
  value will be allowed up to July 5th\, 2026 at 23:59 CEST\nRefunds for th
 e 30% of the ticket value will be allowed up to July 19th\, 2026 at 23:59 
 CEST\nTickets will be final and no refunds will be allowed starting July 2
 0th.\n\nTo request a partial refund your ticket\, please fill out the foll
 owing form: https://forms.gle/G6Fw6Boh7Wgsa4Ma7\nPhoto ID will be required
  to perform check-in. It will NOT be possible to check-in or perform early
  check-in for another person. Participation kits will be handed out during
  check-in. You will need to upload your decklist using Bandai TCG+ applica
 tion. Decklist submission will open a few days before the event.\nFor furt
 her info\, please check our website and social media.\nTournament rules an
 d prizes: X English: https://x.com/TCG_VictoryRoadX Spanish: https://x.co
 m/VictoryRoadESDiscord server: https://discord.gg/NHXERVAsQz 
GEO:41.5457205;2.1172709
LOCATION:м. Къро\, Boulevard "Tsarigradsko shose" 111Г 1784 Sofia - 
 BG
ORGANIZER:Rollout Entertainment SL
END:VEVENT
END:VCALENDAR
