BEGIN:VCALENDAR
VERSION:2.0
CALSCALE:GREGORIAN
METHOD:PUBLISH
BEGIN:VEVENT
SUMMARY:Pique Nique chez le Vigneron 2026
DTSTART:20260524T080000Z
DTEND:20260525T080000Z
DTSTAMP:20260424T120413Z
CATEGORIES:
DESCRIPTION:\n	10h00: Rendez-vous au 1 Grand Rue à KATZENTHAL\n\n\n	10h30
 : Départ de la "Marche découverte du Vignoble":\n	- Explication du trava
 il de la vigne\n	- Découverte des différents terroirs\n	- Dégustations 
 au coeur d'un château médiéval\n	 \n\n	Midi: Retour dans la cour couve
 rte du domaine:\n	- Repas tiré du sac (ou de la glacière) accompagné de
 s Vins Paul SPANNAGEL (pas de barbecue)\n	- Découverte de l'ensemble de n
 otre gamme\n	- Bricolage pour les enfants\n	- Jeux de hasard (lots à gagn
 er) \n	- Visite de nos caves avec commentaires et explications de la vini
 fication\n
LOCATION:1 Grand Rue 68230 KATZENTHAL - FR
ORGANIZER:Domaine Paul SPANNAGEL
END:VEVENT
END:VCALENDAR
