BEGIN:VCALENDAR
VERSION:2.0
CALSCALE:GREGORIAN
METHOD:PUBLISH
BEGIN:VEVENT
SUMMARY:Konzert: Musik des Friedens
DTSTART:20260508T170000Z
DTSTAMP:20260424T184907Z
CATEGORIES:
DESCRIPTION:Anlässlich des 81. Jahrestags des Sieges über Nazi-Deutschla
 nd und der Befreiung Europas von der nationalsozialistischen Herrschaft wi
 dmet sich der musikalische Abend den Ereignissen\, die im kollektiven Ged
 ächtnis nicht als bloßer Anlass\, sondern als Erinnerung an den Preis de
 s Friedens\, die Zerbrechlichkeit des menschlichen Lebens und die Kraft de
 r Hoffnung fortleben – einer Hoffnung\, die selbst der Krieg nicht brech
 en konnte.\nDas Programm ist um Stille und helles Gedenken herum aufgebaut
 \, ohne Pathos und laute Worte\, nur Musik\, in der Schmerz und Trost\, Tr
 auer und Hoffnung hörbar werden. Im Konzert erklingen Werke von Samuel Ba
 rber\, Arvo Pärt\, Dmitri Schostakowitsch und Alfred Schnittke. Ihre Musi
 k berührt durch Aufrichtigkeit und Tiefe und bewahrt den lebendigen\, men
 schlichen Klang.
GEO:52.5135209;13.3888922
LOCATION:176-179 Friedrichstraße 10117 Berlin - DE
ORGANIZER:Russisches Haus in Berlin
END:VEVENT
END:VCALENDAR
