BEGIN:VCALENDAR
VERSION:2.0
CALSCALE:GREGORIAN
METHOD:PUBLISH
BEGIN:VEVENT
SUMMARY:Tournoi Weykick
DTSTART:20260524T130000Z
DTEND:20260524T140000Z
DTSTAMP:20260423T185545Z
CATEGORIES:
DESCRIPTION:\n	WeyKick jeux en bois\n\n	Comme par magie\, les pions se dé
 placent sur le terrain de jeu\, les disques colorés sautent par-dessus le
 s élastiques et les tonneaux volent dans tous les sens. Vous aussi\, lais
 sez-vous séduire par nos jeux en bois de grande qualité\, qui vous rése
 rvent toujours des surprises.\n
LOCATION:50 rue de la Grande Remise 78440 Porcheville - FR
ORGANIZER:ESPACE BORIS VIAN -
END:VEVENT
END:VCALENDAR
